BEGIN:VCALENDAR
VERSION:2.0
PRODID:-//Pilgerreisen - DER Pilgerbüro Freiburg - Begegnungs- und Pilgerreisen der Erzdiözese Freiburg
CALSCALE:GREGORIAN
METHOD:PUBLISH
X-WR-CALNAME:Pilgerreisen - DER Pilgerbüro Freiburg - Begegnungs- und Pilgerreisen der Erzdiözese Freiburg
X-ORIGINAL-URL:https://pilger-buero.de/produkt/hamburg-kunst-kirche-michel-elbphilharmonie-hafen-city/
X-WR-CALDESC:Hamburg &#8211; Kunst &#038; Kirche: Michel, Elbphilharmonie &#038; Hafen City
BEGIN:VEVENT
DTSTART;TZID=Europe/Helsinki:20260625T160000
DTEND;TZID=Europe/Helsinki:20260628T000000
SUMMARY:Hamburg – Kunst & Kirche: Michel, Elbphilharmonie & Hafen City
DESCRIPTION:Exkursion nach Hamburg: Michel, Elbphilharmonie und Hafen City Die Hansestadt Hamburg – Welt- und Hafenstadt im Norden Deutschlands – ist als protestantische Metropole ganz anders von Religion und Kunst geprägt worden als Süddeutschland mit seinem oftmals „katholischen Bilderreichtum“. Diesem besonderen Zusammenklang von „Kunst und Kirche“ sowie der multikulturellen, internationalen Prägung der Hafenstadt möchten wir uns annähern, wenn wir uns vier Tage Zeit zum Entdecken nehmen. Zum einen besuchen wir die Hamburger Kunsthalle, in der die Ausstellung „Malfluss = Lebensfluss“ den Norweger Edvard Munch und die Österreicherin Maria Lassnig in Dialog setzt. Zum anderen stehen ein Rundgang durch die Speicherstadt mit auf dem Programm, der Besuch des Barlach-Hauses und des Ökumenischen Forums HafenCity. In diesem Zentrum leben und gestalten 21 Kirchen gemeinsam die Ökumene vor Ort. Natürlich dürfen weder der Hamburger Michel, das barocke Wahrzeichen der Stadt, noch ein Konzert in der spektakulären Elbphilharmonie fehlen. An all diesen Orten werden wir „Kunst und Kirche“ erleben und damit künstlerische Gestaltungen, die uns die Hansestadt nahebringen. Zu dieser facettenreichen Exkursion laden wir herzlich ein! Leitung Dr. Mareike Hartmann (Katholische Akademie, Studienleiterin Kunst &amp; Kultur) &amp; Dr. Katharina Seifert (Ordinariat Freiburg, Referentin Kunst, Kultur, Kirche) &nbsp;
URL:https://pilger-buero.de/produkt/hamburg-kunst-kirche-michel-elbphilharmonie-hafen-city/
LOCATION:
END:VEVENT
END:VCALENDAR
