BEGIN:VCALENDAR
VERSION:2.0
PRODID:-//Pilgerreisen - DER Pilgerbüro Freiburg - Begegnungs- und Pilgerreisen der Erzdiözese Freiburg
CALSCALE:GREGORIAN
METHOD:PUBLISH
X-WR-CALNAME:Pilgerreisen - DER Pilgerbüro Freiburg - Begegnungs- und Pilgerreisen der Erzdiözese Freiburg
X-ORIGINAL-URL:https://pilger-buero.de/produkt/lourdes-busreise-ueber-nevers-und-vichy/
X-WR-CALDESC:Lourdes &#8211; Busreise über Nevers und Vichy
BEGIN:VEVENT
DTSTART;TZID=Europe/Helsinki:20260906T160000
DTEND;TZID=Europe/Helsinki:20260912T000000
SUMMARY:Lourdes – Busreise über Nevers und Vichy
DESCRIPTION:Das Jahresthema in Lourdes in 2026 lautet 'Sei gegrüßt, du Begnadete, der Herr ist mit dir‘. Die Wallfahrt lädt dazu ein, nach Lourdes zu kommen, wie kaum ein anderer Ort ist Lourdes mit dem Wort Hoffnung verbunden. In der Hoffnung auf Heilung pilgern jedes Jahr tausende von Menschen dorthin. Dabei meint Heilung mehr als die Heilung von körperlichen Krankheiten. Sie kann auch bedeuten, dass Menschen in einem tiefen inneren Frieden und getröstet wieder nach Hause fahren, weil sie mit der heilenden Kraft Gottes in Berührung gekommen sind. Damit lädt diese Pilgerfahrt nach Lourdes dazu ein, auf die Fürsprache Marias die heilende Kraft Gottes zu erfahren und als Pilger der Hoffnung neue Kraft für das Leben zu erfahren. Die Wallfahrt ist geprägt von den verschiedenen Gottesdiensten an der Erscheinungsgrotte oder in einer der Kirchen im Heiligen Bezirk. Das Beten des Kreuzweges, die Feier der Krankensalbung und die große internationale Messe in der Basilika Pius X. sind weitere Höhepunkte der Tage in Lourdes. Auch die Teilnahme an den Eucharistischen Prozessionen und den abendlichen Lichterprozessionen gehören zum geistlichen Programm. Es bleibt auch genügend Zeit für das persönliche Gebet an der Grotte, den Empfang des Bußsakramentes oder dem Besuch der Bäder. Der Besuch der Gedenkstätten (Museum der heiligen Bernadette, Geburtshaus, Kirche, Chachot…) sind weitere Programmpunkte, die zusammen mit der Fluggruppe gestaltet werden. Leitung Dekan Lukas Wehrle und Dorothea Huber-Vollmer
URL:https://pilger-buero.de/produkt/lourdes-busreise-ueber-nevers-und-vichy/
LOCATION:
END:VEVENT
END:VCALENDAR
