BEGIN:VCALENDAR
VERSION:2.0
PRODID:-//Pilgerreisen - DER Pilgerbüro Freiburg - Begegnungs- und Pilgerreisen der Erzdiözese Freiburg
CALSCALE:GREGORIAN
METHOD:PUBLISH
X-WR-CALNAME:Pilgerreisen - DER Pilgerbüro Freiburg - Begegnungs- und Pilgerreisen der Erzdiözese Freiburg
X-ORIGINAL-URL:https://pilger-buero.de/produkt/faschina-wandern-pilgern-im-grossen-walsertal/
X-WR-CALDESC:Faschina &#8211; wandern &#038; pilgern im Großen Walsertal
BEGIN:VEVENT
DTSTART;TZID=Europe/Helsinki:20260821T160000
DTEND;TZID=Europe/Helsinki:20260826T000000
SUMMARY:Faschina – wandern & pilgern im Großen Walsertal
DESCRIPTION:Wandern und pilgern Sie mit uns in einem der schönsten Gebiete Österreichs und besuchen am 23.08.2026 die Bergmesse auf der Klesenza Alpe mit Erzbischof Stephan Burger. Sie reisen ab Karlsruhe mit verschiedenen Zustiegen entlang der A 5 nach Freiburg, danach Weiterfahrt durch das Höllental mit Zustiegen in Titisee Neustadt, Donaueschingen, A 81 Raststätte Hegau-West entlang dem Bodensee, über Friedrichshafen, vorbei an Bregenz, Bludenz in das Große Walsertal. Wir bieten Ihnen ein abwechslungsreiches Programm wie die Bergmesse auf der Klesenza Alpe mit Erzbischof Stephan Burger, Wanderungen in und um Faschina, Heilige Messe in Buchboden, anschließend Wanderung mit Erzbischof Stephan Burger nach Bad Rothenbrunnen (ca.1 Stunde), Schoppernau, Bergbahn zum Diedamskopf und kleine Wanderungen. Auf dem Diedamskopf haben Sie bei gutem Wetter eine wunderbare Sicht bis zum Bodensee. Dort haben Sie auch die Möglichkeit im Bergrestaurant einzukehren. Eindrucksvolle Tage erwarten Sie bei dieser Reise. Leitung: Edgar Vogel, Konradsblatt &amp; Christa Löffler, Pilgerbüro
URL:https://pilger-buero.de/produkt/faschina-wandern-pilgern-im-grossen-walsertal/
LOCATION:
END:VEVENT
END:VCALENDAR
