BEGIN:VCALENDAR
VERSION:2.0
PRODID:-//Pilgerreisen - DER Pilgerbüro Freiburg - Begegnungs- und Pilgerreisen der Erzdiözese Freiburg
CALSCALE:GREGORIAN
METHOD:PUBLISH
X-WR-CALNAME:Pilgerreisen - DER Pilgerbüro Freiburg - Begegnungs- und Pilgerreisen der Erzdiözese Freiburg
X-ORIGINAL-URL:https://pilger-buero.de/produkt/lourdes-reise-mit-dem-tgv-zur-66-internationalen-soldatenwallfahrt/
X-WR-CALDESC:Lourdes &#8211; Reise mit dem TGV zur 66. Internationalen Soldatenwallfahrt
BEGIN:VEVENT
DTSTART;TZID=Europe/Helsinki:20260521T160000
DTEND;TZID=Europe/Helsinki:20260525T000000
SUMMARY:Lourdes – Reise mit dem TGV zur 66. Internationalen Soldatenwallfahrt
DESCRIPTION:Lourdes - Reise mit dem TGV zur 66. Internationalen Soldatenwallfahrt Das Jahresthema in Lourdes für 2026 lautet: 'Sei gegrüßt, Du Begnadete, der Herr ist mit dir'. Lourdes ist nicht nur ein Ort der Begegnung, es ist für viele eine Gelegenheit zum Nachdenken und Innehalten. Die Soldatenwallfahrt stellt eine einzigartige Möglichkeit dar, um für Frieden und um das Miteinander der Nationen zu bitten und zu beten. Soldatinnen und Soldaten begegnen sich aus zahlreichen Ländern und finden in der gemeinsamen Sprache des Glaubens und des Gebets zueinander. Pilgerinnen und Pilger nehmen aus über 40 Ländern an dieser Wallfahrt teil. Auch in der Stadt Lourdes sowie ihre Bewohner, Pilger und Pilgerinnen hinterlässt dies Spuren. Von einer Klangwolke von Musik werden Sie eingehüllt, da den ganzen Tag über die Kapellen der Armeen durch die zahlreichen Straßen marschieren und an verschiedenen Plätzen musizieren. Einen tiefen Eindruck bei der Soldatenwallfahrt hinterlässt auch die Lichterprozession. Bei Dämmerung ziehen dabei die Soldaten singend und betend mit Kerzen in den Händen durch den Heiligen Bezirk. Und genau dieses Neben- und Miteinander der Militärangehörigen und den dort anwesenden Pilgern, dieses Zusammen mit Nationen, die sich auch einmal bekriegt haben, das fasziniert und hebt das Fremde und Trennende auf. Vielleicht ist auch dies eines der Wunder von Lourdes, die bis heute geschehen und das Besondere und Einzigartige dieses Ortes ausmachen. (Textquelle: Maria Carolina Heidler, Militärordinariat der Republik Österreich) Reiseleitung: Christa Löffler, Pilgerbüro &amp; Edgar Vogel, Konradsblatt
URL:https://pilger-buero.de/produkt/lourdes-reise-mit-dem-tgv-zur-66-internationalen-soldatenwallfahrt/
LOCATION:
END:VEVENT
END:VCALENDAR
