BEGIN:VCALENDAR
VERSION:2.0
PRODID:-//Pilgerreisen - DER Pilgerbüro Freiburg - Begegnungs- und Pilgerreisen der Erzdiözese Freiburg
CALSCALE:GREGORIAN
METHOD:PUBLISH
X-WR-CALNAME:Pilgerreisen - DER Pilgerbüro Freiburg - Begegnungs- und Pilgerreisen der Erzdiözese Freiburg
X-ORIGINAL-URL:https://pilger-buero.de/produkt/rom-konradsblatt-leserreise/
X-WR-CALDESC:Rom Konradsblatt Leserreise
BEGIN:VEVENT
DTSTART;TZID=Europe/Helsinki:20260526T160000
DTEND;TZID=Europe/Helsinki:20260531T000000
SUMMARY:Rom Konradsblatt Leserreise
DESCRIPTION:Papst Leo XIV. hat zum Ende des Heiligen Jahres die Gläubigen aufgerufen: „Aus diesem Grund, liebe Brüder und Schwestern, ist es schön, Pilger der Hoffnung zu werden. Und es ist schön, dies weiterhin gemeinsam zu sein.“ Dieses Wort lädt uns ein, das Pilgern auch nach dem Heiligen Jahr fortzusetzen, als bleibende Haltung des Glaubens. Pilgern heißt, sich auf den Weg zu machen, aufzubrechen und sich der Fremde auszusetzen, um Gott neu zu begegnen und sich von ihm verwandeln zu lassen. Wer nach Rom aufbricht, betritt einen Ort, an dem die lebendige Geschichte der Kirche spürbar wird: wo Apostelgräber, Heilige und unzählige Glaubenszeugnisse den Himmel offenhalten. Auf diesem Weg können wir neu entdecken, was es heißt, gemeinsam Kirche zu sein: nicht Denkmal, sondern Heimat. So wachsen wir hinein in jene Gemeinschaft, die Papst Leo XIV. „Generation der Morgenröte“ nennt und werden zu Menschen, die sich von Christus anziehen lassen und Hoffnung ausstrahlen. Es grüßt Sie herzlich Weihbischof Dr. Peter Birkhofer Geistliche Leitung Weihbischof Dr. Peter Birkhofer Reiseleitung Edgar Vogel Konradsblatt &nbsp;
URL:https://pilger-buero.de/produkt/rom-konradsblatt-leserreise/
LOCATION:
END:VEVENT
END:VCALENDAR
